BEGIN:VCALENDAR
VERSION:2.0
PRODID:-//ChamberMaster//Event Calendar 2.0//EN
METHOD:PUBLISH
X-PUBLISHED-TTL:P3D
REFRESH-INTERVAL:P3D
CALSCALE:GREGORIAN
BEGIN:VEVENT
DTSTART:20230919T230000Z
DTEND:20230920T003000Z
X-MICROSOFT-CDO-ALLDAYEVENT:FALSE
SUMMARY:Member Event: Disney Kids Trivia
DESCRIPTION:Kiddos! This event is just for YOU! This free trivia is super fun to play\, with some cool prizes. Great for ages 7-14! Prizes for first\, second\, and third place!
X-ALT-DESC;FMTTYPE=text/html:<span style="font-family:montserrat\; font-size:18px">Kiddos! This event is just for YOU! This free trivia is super fun to play\, with some cool prizes. Great for ages 7-14! Prizes for first\, second\, and third place!</span>
LOCATION:9 Mile Brewing 9555 James Ave S Suite 290 Bloomington\, MN 55431
UID:e.1968.15081
SEQUENCE:3
DTSTAMP:20260420T152202Z
URL:https://northeast.minneapolischamber.org/events/details/member-event-disney-kids-trivia-15081
END:VEVENT

END:VCALENDAR
